BEGIN:VCALENDAR
VERSION:2.0
PRODID:-//wp-events-plugin.com//7.2.3.1//EN
TZID:Europe/Berlin
X-WR-TIMEZONE:Europe/Berlin
BEGIN:VEVENT
UID:24@schuetzen-waldeslust.de
DTSTART;TZID=Europe/Berlin;VALUE=DATE:20231208
DTEND;TZID=Europe/Berlin;VALUE=DATE:20231211
DTSTAMP:20231108T072841Z
URL:https://www.schuetzen-waldeslust.de/events/vereinsausflug-erzgebirge/
SUMMARY:Vereinsausflug Erzgebirge
DESCRIPTION:
CATEGORIES:Interne Veranstaltung
END:VEVENT
BEGIN:VTIMEZONE
TZID:Europe/Berlin
X-LIC-LOCATION:Europe/Berlin
BEGIN:STANDARD
DTSTART:20231029T020000
TZOFFSETFROM:+0200
TZOFFSETTO:+0100
TZNAME:CET
END:STANDARD
END:VTIMEZONE
END:VCALENDAR