BEGIN:VCALENDAR
VERSION:2.0
PRODID:-//wp-events-plugin.com//7.2.3.1//EN
TZID:Europe/Berlin
X-WR-TIMEZONE:Europe/Berlin
BEGIN:VEVENT
UID:79@schuetzen-waldeslust.de
DTSTART;TZID=Europe/Berlin;VALUE=DATE:20251019
DTEND;TZID=Europe/Berlin;VALUE=DATE:20251020
DTSTAMP:20250805T045653Z
URL:https://www.schuetzen-waldeslust.de/events/lp1-bayernliga-in-oberweili
 ng/
SUMMARY:LP1 Bayernliga in Oberweiling
DESCRIPTION:1. WK Tag für LP1 in Oberweiling
CATEGORIES:Rundenwettkampf
LOCATION:Oberweilling\, Schützenstr. 19 92355 Finsterweiling\, Oberweillin
 g\, Deutschland
X-APPLE-STRUCTURED-LOCATION;VALUE=URI;X-ADDRESS=Schützenstr. 19 92355 Fins
 terweiling\, Oberweilling\, Deutschland;X-APPLE-RADIUS=100;X-TITLE=Oberwei
 lling:geo:0,0
END:VEVENT
BEGIN:VTIMEZONE
TZID:Europe/Berlin
X-LIC-LOCATION:Europe/Berlin
BEGIN:DAYLIGHT
DTSTART:20250330T030000
TZOFFSETFROM:+0100
TZOFFSETTO:+0200
TZNAME:CEST
END:DAYLIGHT
END:VTIMEZONE
END:VCALENDAR