BEGIN:VCALENDAR
VERSION:2.0
PRODID:-//wp-events-plugin.com//7.2.3.1//EN
TZID:Europe/Berlin
X-WR-TIMEZONE:Europe/Berlin
BEGIN:VEVENT
UID:27@schuetzen-waldeslust.de
DTSTART;TZID=Europe/Berlin:20240317T090000
DTEND;TZID=Europe/Berlin:20240317T140000
DTSTAMP:20231005T063151Z
URL:https://www.schuetzen-waldeslust.de/events/lp1-bayernliga-7/
SUMMARY:LP1 Bayernliga
DESCRIPTION:
CATEGORIES:Rundenwettkampf
LOCATION:Einigkeit Hubertus Kastl\, Jahnstraße 6\, 95506 Kastl (Kemnath)\,
  Deutschland
X-APPLE-STRUCTURED-LOCATION;VALUE=URI;X-ADDRESS=Jahnstraße 6\, 95506 Kastl
  (Kemnath)\, Deutschland;X-APPLE-RADIUS=100;X-TITLE=Einigkeit Hubertus Kas
 tl:geo:0,0
END:VEVENT
BEGIN:VTIMEZONE
TZID:Europe/Berlin
X-LIC-LOCATION:Europe/Berlin
BEGIN:STANDARD
DTSTART:20231029T020000
TZOFFSETFROM:+0200
TZOFFSETTO:+0100
TZNAME:CET
END:STANDARD
END:VTIMEZONE
END:VCALENDAR