BEGIN:VCALENDAR
VERSION:2.0
PRODID:-//wp-events-plugin.com//7.2.3.1//EN
TZID:Europe/Berlin
X-WR-TIMEZONE:Europe/Berlin
BEGIN:VEVENT
UID:5@schuetzen-waldeslust.de
DTSTART;TZID=Europe/Berlin:20230818T000000
DTEND;TZID=Europe/Berlin:20230827T000000
DTSTAMP:20230704T174744Z
URL:https://www.schuetzen-waldeslust.de/events/deutsche-meisterschaften/
SUMMARY:Deutsche Meisterschaften
DESCRIPTION:Deutsche Meisterschaften DSB
CATEGORIES:DSB
END:VEVENT
BEGIN:VTIMEZONE
TZID:Europe/Berlin
X-LIC-LOCATION:Europe/Berlin
BEGIN:DAYLIGHT
DTSTART:20230326T030000
TZOFFSETFROM:+0100
TZOFFSETTO:+0200
TZNAME:CEST
END:DAYLIGHT
END:VTIMEZONE
END:VCALENDAR